BEGIN:VCALENDAR
VERSION:2.0
PRODID:icalendar-ruby
CALSCALE:GREGORIAN
METHOD:PUBLISH
BEGIN:VTIMEZONE
TZID:Europe/Vienna
BEGIN:DAYLIGHT
DTSTART:20180325T030000
TZOFFSETFROM:+0100
TZOFFSETTO:+0200
RRULE:FREQ=YEARLY;BYDAY=-1SU;BYMONTH=3
TZNAME:CEST
END:DAYLIGHT
BEGIN:STANDARD
DTSTART:20171029T020000
TZOFFSETFROM:+0200
TZOFFSETTO:+0100
RRULE:FREQ=YEARLY;BYDAY=-1SU;BYMONTH=10
TZNAME:CET
END:STANDARD
END:VTIMEZONE
BEGIN:VEVENT
DTSTAMP:20260424T085438Z
UID:5a326198302a0338247518@ist.ac.at
DTSTART:20171218T140000
DTEND:20171218T150000
DESCRIPTION:Speaker: Arianna Cocco\nhosted by Leonid Sazanov
LOCATION:Meeting room 2nd floor / Lab Bldg East (I06.02.403)\, ISTA
ORGANIZER:rsix@ist.ac.at
SUMMARY:Arianna Cocco: The gamma-aminobutyric acid signaling system in the 
 zebrafish (Danio rerio) brain and retinas: A gene expression profiling stu
 dy
URL:https://talks-calendar.ista.ac.at/events/999
END:VEVENT
END:VCALENDAR
