BEGIN:VCALENDAR
VERSION:2.0
PRODID:icalendar-ruby
CALSCALE:GREGORIAN
METHOD:PUBLISH
BEGIN:VTIMEZONE
TZID:Europe/Vienna
BEGIN:DAYLIGHT
DTSTART:20180325T030000
TZOFFSETFROM:+0100
TZOFFSETTO:+0200
RRULE:FREQ=YEARLY;BYDAY=-1SU;BYMONTH=3
TZNAME:CEST
END:DAYLIGHT
BEGIN:STANDARD
DTSTART:20171029T020000
TZOFFSETFROM:+0200
TZOFFSETTO:+0100
RRULE:FREQ=YEARLY;BYDAY=-1SU;BYMONTH=10
TZNAME:CET
END:STANDARD
END:VTIMEZONE
BEGIN:VEVENT
DTSTAMP:20260424T142934Z
UID:5853d1ad9803b612049924@ist.ac.at
DTSTART:20171214T130000
DTEND:20171214T150000
DESCRIPTION:Speaker: Josef Schicho\nhosted by Tamas Hausel\nAbstract: If we
  model the group of Euclidean displacements by the dual quaternions\, then
  we can represent motions in 3D-space by polynomials with dual quaternion 
 coefficients. Kinematic/geometric statements about the motions are reflect
 ed by algebraic statements in the algebra of these polynomials. In particu
 lar\, a variation of the fundamental theorem of algebra translates to a co
 nstruction of linkages tracing a prescribed curve.In the second part of th
 e talk\, we general the concepts introduced in the first part to nonration
 al curves and apply them to analyze paradoxically moving linkages\, i.e.\,
  linkages that should not move according to a parameter count of free vari
 ables and constraints.
LOCATION:Big Seminar room Ground floor / Office Bldg West (I21.EG.101)\, IS
 TA
ORGANIZER:jdeanton@ist.ac.at
SUMMARY:Josef Schicho: Algebra of Motions
URL:https://talks-calendar.ista.ac.at/events/997
END:VEVENT
END:VCALENDAR
