BEGIN:VCALENDAR
VERSION:2.0
PRODID:icalendar-ruby
CALSCALE:GREGORIAN
METHOD:PUBLISH
BEGIN:VTIMEZONE
TZID:Europe/Vienna
BEGIN:DAYLIGHT
DTSTART:20180325T030000
TZOFFSETFROM:+0100
TZOFFSETTO:+0200
RRULE:FREQ=YEARLY;BYDAY=-1SU;BYMONTH=3
TZNAME:CEST
END:DAYLIGHT
BEGIN:STANDARD
DTSTART:20171029T020000
TZOFFSETFROM:+0200
TZOFFSETTO:+0100
RRULE:FREQ=YEARLY;BYDAY=-1SU;BYMONTH=10
TZNAME:CET
END:STANDARD
END:VTIMEZONE
BEGIN:VEVENT
DTSTAMP:20260424T040541Z
UID:5a0aa6fe42138718192830@ist.ac.at
DTSTART:20171220T100000
DTEND:20171220T110000
DESCRIPTION:Speaker: Andrej Hurny\nAbstract: The main theme of Andrejs thes
 is is the interaction between the plant hormones auxin and cytokinin\, mai
 n antagonistic regulators of plant development and growth. Andrej has iden
 tified a novel component of auxin-cytokinin cross-talk\, gene synergistica
 lly upregulated by both of them (SYAC1) and  characterized its biological 
 function as a regulator of cell wall polysaccharides secretion\, which cou
 ld be relevant for agricultural applications.
LOCATION:Mondi Seminar Room 2\, Central Building\, ISTA
ORGANIZER:sseider@ist.ac.at
SUMMARY:Andrej Hurny: TD Andrej Hurny: Identification and characterization 
 of novel auxin-cytokinin cross-talk components
URL:https://talks-calendar.ista.ac.at/events/994
END:VEVENT
END:VCALENDAR
