BEGIN:VCALENDAR
VERSION:2.0
PRODID:icalendar-ruby
CALSCALE:GREGORIAN
METHOD:PUBLISH
BEGIN:VTIMEZONE
TZID:Europe/Vienna
BEGIN:DAYLIGHT
DTSTART:20180325T030000
TZOFFSETFROM:+0100
TZOFFSETTO:+0200
RRULE:FREQ=YEARLY;BYDAY=-1SU;BYMONTH=3
TZNAME:CEST
END:DAYLIGHT
BEGIN:STANDARD
DTSTART:20171029T020000
TZOFFSETFROM:+0200
TZOFFSETTO:+0100
RRULE:FREQ=YEARLY;BYDAY=-1SU;BYMONTH=10
TZNAME:CET
END:STANDARD
END:VTIMEZONE
BEGIN:VEVENT
DTSTAMP:20260424T085050Z
UID:5a25305b3a127896226617@ist.ac.at
DTSTART:20171206T134500
DTEND:20171206T143000
DESCRIPTION:Speaker: Juan Felipe Ramirez-Villegas\nhosted by Jozsef Csicsva
 ri\nAbstract: Intracortically-recorded brain signals display a rich variet
 y of transient activities: brief\, recurring episodes of deflection or osc
 illatory activities that reflect cooperative subcircuit mechanisms. These 
 network patterns of activity\, also called neural events\, span multiple s
 patio-temporal scales\, and are believed to be basic computing elements du
 ring cognitive processes such as learning and off-line memory consolidatio
 n. However\, both the large-scale and microscopic-scale cooperative mechan
 isms associated with these episodes remain poorly understood. Here\, we so
 ught to study the relationship between ongoing spontaneous neural events i
 n the hippocampus\, brainstem and thalamic structures by combining data fr
 om intracortical recordings\, multi-compartmental network models\, and fun
 ctional MRI (fMRI).In the first part of my presentation\, Ill talk about t
 he mechanisms underlying sharp wave-ripple (SWR) neural events in the hipp
 ocampus. In the second part of my talk\, Ill give an overview of our study
  of pontogeniculooccipital (PGO) waves\, and specifically their relationsh
 ip with hippocampal activity.
LOCATION:Mondi Seminar Room 1\, Central Building\, ISTA
ORGANIZER:wkoelbl@ist.ac.at
SUMMARY:Juan Felipe Ramirez-Villegas: Deciphering the brainstem\, hippocamp
 al and brain-wide dynamics by neuronal-ensemble event
URL:https://talks-calendar.ista.ac.at/events/990
END:VEVENT
END:VCALENDAR
