BEGIN:VCALENDAR
VERSION:2.0
PRODID:icalendar-ruby
CALSCALE:GREGORIAN
METHOD:PUBLISH
BEGIN:VTIMEZONE
TZID:Europe/Vienna
BEGIN:DAYLIGHT
DTSTART:20180325T030000
TZOFFSETFROM:+0100
TZOFFSETTO:+0200
RRULE:FREQ=YEARLY;BYDAY=-1SU;BYMONTH=3
TZNAME:CEST
END:DAYLIGHT
BEGIN:STANDARD
DTSTART:20171029T020000
TZOFFSETFROM:+0200
TZOFFSETTO:+0100
RRULE:FREQ=YEARLY;BYDAY=-1SU;BYMONTH=10
TZNAME:CET
END:STANDARD
END:VTIMEZONE
BEGIN:VEVENT
DTSTAMP:20260424T125200Z
UID:5a1bcfcf1ca30882981652@ist.ac.at
DTSTART:20171206T150000
DTEND:20171206T160000
DESCRIPTION:Speaker: Thomas R. Clandinin\nhosted by Maximilian Jösch\nAbst
 ract: Peripheral visual circuits perform paradigmatic computations such as
  motion processing. However\, our understanding of the necessary and suffi
 cient roles of individual cell types\, their interactions\, and the molecu
 les that underpin their specific activity patterns remains limited. Our wo
 rk combines genetic manipulations of both neural activity and molecular fu
 nction with in vivo imaging of calcium and voltage signals to unravel circ
 uit mechanisms using the Drosophila visual system as a model.  Our results
  reveal that the algorithms used to detect visual motion in flies and huma
 ns are fundamentally similar.
LOCATION:Mondi Seminar Room 1\, Central Building\, ISTA
ORGANIZER:rsix@ist.ac.at
SUMMARY:Thomas R. Clandinin: Dissecting the circuits and algorithms that pr
 ocess visual motion
URL:https://talks-calendar.ista.ac.at/events/979
END:VEVENT
END:VCALENDAR
