BEGIN:VCALENDAR
VERSION:2.0
PRODID:icalendar-ruby
CALSCALE:GREGORIAN
METHOD:PUBLISH
BEGIN:VTIMEZONE
TZID:Europe/Vienna
BEGIN:DAYLIGHT
DTSTART:20180325T030000
TZOFFSETFROM:+0100
TZOFFSETTO:+0200
RRULE:FREQ=YEARLY;BYDAY=-1SU;BYMONTH=3
TZNAME:CEST
END:DAYLIGHT
BEGIN:STANDARD
DTSTART:20171029T020000
TZOFFSETFROM:+0200
TZOFFSETTO:+0100
RRULE:FREQ=YEARLY;BYDAY=-1SU;BYMONTH=10
TZNAME:CET
END:STANDARD
END:VTIMEZONE
BEGIN:VEVENT
DTSTAMP:20260424T134913Z
UID:5a1c1f2f5f4dd078402026@ist.ac.at
DTSTART:20171205T160000
DTEND:20171205T170000
DESCRIPTION:Speaker: Tom Baden\nhosted by Maximilian Jösch\nAbstract: I wi
 ll briefly summarise some key aspects of vertebrate retinal processing\, m
 ainly from published work on mouse\, and then elaborate on some new data f
 rom my lab where we looked at retinal processing in zebrafish. In each cas
 e I will seek to draw on the animal's visual ecology in an attempt to make
  sense of the many functional differences observed between these two speci
 es\, as part of a broader argument aiming to relate the functional archite
 cture of sensory networks to the sensory world for which they evolved to o
 perate.
LOCATION:Seminar Room\, Lab Building East\, ISTA
ORGANIZER:rsix@ist.ac.at
SUMMARY:Tom Baden: The functional evolution of neuronal networks: What can 
 we learn from the vertebrate retina
URL:https://talks-calendar.ista.ac.at/events/978
END:VEVENT
END:VCALENDAR
