BEGIN:VCALENDAR
VERSION:2.0
PRODID:icalendar-ruby
CALSCALE:GREGORIAN
METHOD:PUBLISH
BEGIN:VTIMEZONE
TZID:Europe/Vienna
BEGIN:DAYLIGHT
DTSTART:20180325T030000
TZOFFSETFROM:+0100
TZOFFSETTO:+0200
RRULE:FREQ=YEARLY;BYDAY=-1SU;BYMONTH=3
TZNAME:CEST
END:DAYLIGHT
BEGIN:STANDARD
DTSTART:20171029T020000
TZOFFSETFROM:+0200
TZOFFSETTO:+0100
RRULE:FREQ=YEARLY;BYDAY=-1SU;BYMONTH=10
TZNAME:CET
END:STANDARD
END:VTIMEZONE
BEGIN:VEVENT
DTSTAMP:20260424T125153Z
UID:5a0ac1a0a0937981954193@ist.ac.at
DTSTART:20171213T140000
DTEND:20171213T150000
DESCRIPTION:Speaker: Harald Ringbauer\nAbstract: Inferring Recent Demograph
 y from Spatial Genetic Structure
LOCATION:Mondi Seminar Room 3\, Central Building\, ISTA
ORGANIZER:abonvent@ist.ac.at
SUMMARY:Harald Ringbauer: Thesis Defense Harald Ringbauer (public part)
URL:https://talks-calendar.ista.ac.at/events/967
END:VEVENT
END:VCALENDAR
