BEGIN:VCALENDAR
VERSION:2.0
PRODID:icalendar-ruby
CALSCALE:GREGORIAN
METHOD:PUBLISH
BEGIN:VTIMEZONE
TZID:Europe/Vienna
BEGIN:DAYLIGHT
DTSTART:20180325T030000
TZOFFSETFROM:+0100
TZOFFSETTO:+0200
RRULE:FREQ=YEARLY;BYDAY=-1SU;BYMONTH=3
TZNAME:CEST
END:DAYLIGHT
BEGIN:STANDARD
DTSTART:20171029T020000
TZOFFSETFROM:+0200
TZOFFSETTO:+0100
RRULE:FREQ=YEARLY;BYDAY=-1SU;BYMONTH=10
TZNAME:CET
END:STANDARD
END:VTIMEZONE
BEGIN:VEVENT
DTSTAMP:20260424T123752Z
UID:5853d1ad98040279428257@ist.ac.at
DTSTART:20171221T130000
DTEND:20171221T150000
DESCRIPTION:Speaker: Michael Gröchenig\nhosted by Tamas Hausel\nAbstract: 
 I will report on joint work with Dimitri Wyss and Paul Ziegler. We will di
 scuss p-adic integrals of Hasse invariants of canonical gerbes on moduli s
 paces of Higgs bundles. This can be applied to solve a conjecture by Hause
 l--Thaddeus and sheds new light on geometric endoscopy.
LOCATION:Big Seminar room Ground floor / Office Bldg West (I21.EG.101)\, IS
 TA
ORGANIZER:jdeanton@ist.ac.at
SUMMARY:Michael Gröchenig: p-adic integration for the Hitchin system
URL:https://talks-calendar.ista.ac.at/events/953
END:VEVENT
END:VCALENDAR
