BEGIN:VCALENDAR
VERSION:2.0
PRODID:icalendar-ruby
CALSCALE:GREGORIAN
METHOD:PUBLISH
BEGIN:VTIMEZONE
TZID:Europe/Vienna
BEGIN:DAYLIGHT
DTSTART:20180325T030000
TZOFFSETFROM:+0100
TZOFFSETTO:+0200
RRULE:FREQ=YEARLY;BYDAY=-1SU;BYMONTH=3
TZNAME:CEST
END:DAYLIGHT
BEGIN:STANDARD
DTSTART:20171029T020000
TZOFFSETFROM:+0200
TZOFFSETTO:+0100
RRULE:FREQ=YEARLY;BYDAY=-1SU;BYMONTH=10
TZNAME:CET
END:STANDARD
END:VTIMEZONE
BEGIN:VEVENT
DTSTAMP:20260424T040540Z
UID:598c136042a6d196411084@ist.ac.at
DTSTART:20171207T130000
DTEND:20171207T150000
DESCRIPTION:Speaker: Gaetan Borot\nhosted by Tamas Hausel\nAbstract: I will
  describe a new formalism developed together with Andersen and Orantin\, c
 alled geometric recursion. Out of a small amount of initial data\, and a f
 unctor E from a category of surfaces to a category of topological vector s
 paces\, it constructs functorial assignments S -> \\Omega_ S in E(S) by i
 nduction on the Euler characteristic of S. Examples of E include functions
  over the Teichmuller space\, the topological recursion of Eynard and Oran
 tin appears in this case as a projection of the geometric recursion\, and 
 a prototype of the geometric recursion formula are the Mirzakhani-McShane 
 identities.
LOCATION:Mondi Seminar Room 2\, Central Building\, ISTA
ORGANIZER:jdeanton@ist.ac.at
SUMMARY:Gaetan Borot: Geometric recursion
URL:https://talks-calendar.ista.ac.at/events/932
END:VEVENT
END:VCALENDAR
