BEGIN:VCALENDAR
VERSION:2.0
PRODID:icalendar-ruby
CALSCALE:GREGORIAN
METHOD:PUBLISH
BEGIN:VTIMEZONE
TZID:Europe/Vienna
BEGIN:DAYLIGHT
DTSTART:20180325T030000
TZOFFSETFROM:+0100
TZOFFSETTO:+0200
RRULE:FREQ=YEARLY;BYDAY=-1SU;BYMONTH=3
TZNAME:CEST
END:DAYLIGHT
BEGIN:STANDARD
DTSTART:20171029T020000
TZOFFSETFROM:+0200
TZOFFSETTO:+0100
RRULE:FREQ=YEARLY;BYDAY=-1SU;BYMONTH=10
TZNAME:CET
END:STANDARD
END:VTIMEZONE
BEGIN:VEVENT
DTSTAMP:20260424T142941Z
UID:59df2c0bacdcd115006774@ist.ac.at
DTSTART:20171128T173000
DTEND:20171128T183000
DESCRIPTION:Speaker: Eva Gschaider-Reichhart\nAbstract: Optical and Optogen
 tic Control of Cell Proliferation and Survival
LOCATION:Mondi Seminar Room 2\, Central Building\, ISTA
ORGANIZER:useiss@ist.ac.at
SUMMARY:Eva Gschaider-Reichhart: Thesis defense Eva Reichhart
URL:https://talks-calendar.ista.ac.at/events/930
END:VEVENT
END:VCALENDAR
