BEGIN:VCALENDAR
VERSION:2.0
PRODID:icalendar-ruby
CALSCALE:GREGORIAN
METHOD:PUBLISH
BEGIN:VTIMEZONE
TZID:Europe/Vienna
BEGIN:DAYLIGHT
DTSTART:20260329T030000
TZOFFSETFROM:+0100
TZOFFSETTO:+0200
RRULE:FREQ=YEARLY;BYDAY=-1SU;BYMONTH=3
TZNAME:CEST
END:DAYLIGHT
BEGIN:STANDARD
DTSTART:20261025T020000
TZOFFSETFROM:+0200
TZOFFSETTO:+0100
RRULE:FREQ=YEARLY;BYDAY=-1SU;BYMONTH=10
TZNAME:CET
END:STANDARD
END:VTIMEZONE
BEGIN:VEVENT
DTSTAMP:20260424T033711Z
UID:6687bf08e3e81623090284@ist.ac.at
DTSTART:20260421T161500
DTEND:20260421T171500
DESCRIPTION:Speaker: Pierre Germain\nhosted by Laszlo Erdös\nAbstract: A c
 hain of oscillators is a Hamiltonian model set on the 1D lattice (Z)\, whi
 ch should be thought as a model of a crystal: particles can interact with 
 their neighbors\, linearly and nonlinearly. The most prominent examples ar
 e the Fermi-Pasta-Ulam and the Toda equations. I will present the kinetic 
 (Boltzmann-type) equation which can be derived from this model as well as 
 its hydrodynamic limits. I will try to give an overview of the - mostly no
 t rigorous - theory\, but also emphasize recent mathematical progress.
LOCATION:Office Bldg West / Ground floor / Heinzel Seminar Room (I21.EG.101
 )\, ISTA
ORGANIZER:boosthui@ist.ac.at
SUMMARY:Pierre Germain: Kinetic theory for oscillator chains
URL:https://talks-calendar.ista.ac.at/events/6418
END:VEVENT
END:VCALENDAR
