BEGIN:VCALENDAR
VERSION:2.0
PRODID:icalendar-ruby
CALSCALE:GREGORIAN
METHOD:PUBLISH
BEGIN:VTIMEZONE
TZID:Europe/Vienna
BEGIN:DAYLIGHT
DTSTART:20260329T030000
TZOFFSETFROM:+0100
TZOFFSETTO:+0200
RRULE:FREQ=YEARLY;BYDAY=-1SU;BYMONTH=3
TZNAME:CEST
END:DAYLIGHT
BEGIN:STANDARD
DTSTART:20261025T020000
TZOFFSETFROM:+0200
TZOFFSETTO:+0100
RRULE:FREQ=YEARLY;BYDAY=-1SU;BYMONTH=10
TZNAME:CET
END:STANDARD
END:VTIMEZONE
BEGIN:VEVENT
DTSTAMP:20260424T033716Z
UID:68776fc266247378895871@ist.ac.at
DTSTART:20260423T110000
DTEND:20260423T120000
DESCRIPTION:Speaker: Lauren Dreier\nhosted by Jérémie Palacci\nAbstract: 
 Beaded materials incorporate discrete\, volumetric elements into programma
 ble thread networks\, enabling materials that sustain tensile forces along
  threads and compressive forces at bead contacts. These coupled interactio
 ns give rise to emergent behaviors such as tunable stiffness\, metastabili
 ty\, and superjamming\, expanding textiles into new realms of structural a
 nd adaptive performance. We study how these behaviors evolve in larger ass
 emblies and explore design principles that govern their mechanical respons
 e. This work suggests a path toward hybrid textile systems as a versatile 
 platform for programmable matter and adaptive structures.
LOCATION:Mondi Seminar Room 2\, Central Building\, ISTA
ORGANIZER:cpetz@ist.ac.at
SUMMARY:Lauren Dreier: Beaded metamaterials
URL:https://talks-calendar.ista.ac.at/events/6417
END:VEVENT
END:VCALENDAR
