BEGIN:VCALENDAR
VERSION:2.0
PRODID:icalendar-ruby
CALSCALE:GREGORIAN
METHOD:PUBLISH
BEGIN:VTIMEZONE
TZID:Europe/Vienna
BEGIN:DAYLIGHT
DTSTART:20260329T030000
TZOFFSETFROM:+0100
TZOFFSETTO:+0200
RRULE:FREQ=YEARLY;BYDAY=-1SU;BYMONTH=3
TZNAME:CEST
END:DAYLIGHT
BEGIN:STANDARD
DTSTART:20261025T020000
TZOFFSETFROM:+0200
TZOFFSETTO:+0100
RRULE:FREQ=YEARLY;BYDAY=-1SU;BYMONTH=10
TZNAME:CET
END:STANDARD
END:VTIMEZONE
BEGIN:VEVENT
DTSTAMP:20260425T005045Z
UID:1776778200@ist.ac.at
DTSTART:20260421T153000
DTEND:20260421T162000
DESCRIPTION:Speaker: Imre Leader\nhosted by Matthew Kwan\nAbstract: Abstrac
 t: Euclidean Ramsey theory is a natural geometric version of Ramsey theory
 \, asking about what we can say when we finitely colour the Euclidean spac
 e Rn. The talk will present background and then go on to some more recent
  results. No knowledge of the area or of Ramsey theory will be assumed.
LOCATION:Raiffeisen Lecture Hall\, Central Building\, ISTA
ORGANIZER:Stephanie.Dolot@ist.ac.at
SUMMARY:Imre Leader: Euclidean Ramsey theory
URL:https://talks-calendar.ista.ac.at/events/6415
END:VEVENT
END:VCALENDAR
