BEGIN:VCALENDAR
VERSION:2.0
PRODID:icalendar-ruby
CALSCALE:GREGORIAN
METHOD:PUBLISH
BEGIN:VTIMEZONE
TZID:Europe/Vienna
BEGIN:DAYLIGHT
DTSTART:20260329T030000
TZOFFSETFROM:+0100
TZOFFSETTO:+0200
RRULE:FREQ=YEARLY;BYDAY=-1SU;BYMONTH=3
TZNAME:CEST
END:DAYLIGHT
BEGIN:STANDARD
DTSTART:20261025T020000
TZOFFSETFROM:+0200
TZOFFSETTO:+0100
RRULE:FREQ=YEARLY;BYDAY=-1SU;BYMONTH=10
TZNAME:CET
END:STANDARD
END:VTIMEZONE
BEGIN:VEVENT
DTSTAMP:20260424T041147Z
UID:1789983000@ist.ac.at
DTSTART:20260921T113000
DTEND:20260921T123000
DESCRIPTION:
LOCATION:ISTA | Central Building | Raiffeisen Lecture Hall\, ISTA
ORGANIZER:diana.zubcevic@ista.ac.at
SUMMARY:ISTA PostDoc Award
URL:https://talks-calendar.ista.ac.at/events/6386
END:VEVENT
END:VCALENDAR
