BEGIN:VCALENDAR
VERSION:2.0
PRODID:icalendar-ruby
CALSCALE:GREGORIAN
METHOD:PUBLISH
BEGIN:VTIMEZONE
TZID:Europe/Vienna
BEGIN:DAYLIGHT
DTSTART:20260329T030000
TZOFFSETFROM:+0100
TZOFFSETTO:+0200
RRULE:FREQ=YEARLY;BYDAY=-1SU;BYMONTH=3
TZNAME:CEST
END:DAYLIGHT
BEGIN:STANDARD
DTSTART:20261025T020000
TZOFFSETFROM:+0200
TZOFFSETTO:+0100
RRULE:FREQ=YEARLY;BYDAY=-1SU;BYMONTH=10
TZNAME:CET
END:STANDARD
END:VTIMEZONE
BEGIN:VEVENT
DTSTAMP:20260424T152043Z
UID:1782725400@ist.ac.at
DTSTART:20260629T113000
DTEND:20260629T123000
DESCRIPTION:Speaker: Julia Reisenbauer & Charles Roques-Carmes\nhosted by M
 ikhail Lemeshko
LOCATION:ISTA | Central Building | Raiffeisen Lecture Hall\, ISTA
ORGANIZER:diana.zubcevic@ista.ac.at
SUMMARY:Julia Reisenbauer & Charles Roques-Carmes: Inaugural Lecture | Juli
 a Reisenbauer & Charles Roques-Carmes
URL:https://talks-calendar.ista.ac.at/events/6385
END:VEVENT
END:VCALENDAR
