BEGIN:VCALENDAR
VERSION:2.0
PRODID:icalendar-ruby
CALSCALE:GREGORIAN
METHOD:PUBLISH
BEGIN:VTIMEZONE
TZID:Europe/Vienna
BEGIN:DAYLIGHT
DTSTART:20260329T030000
TZOFFSETFROM:+0100
TZOFFSETTO:+0200
RRULE:FREQ=YEARLY;BYDAY=-1SU;BYMONTH=3
TZNAME:CEST
END:DAYLIGHT
BEGIN:STANDARD
DTSTART:20261025T020000
TZOFFSETFROM:+0200
TZOFFSETTO:+0100
RRULE:FREQ=YEARLY;BYDAY=-1SU;BYMONTH=10
TZNAME:CET
END:STANDARD
END:VTIMEZONE
BEGIN:VEVENT
DTSTAMP:20260424T040557Z
UID:68776fd7287fd077847583@ist.ac.at
DTSTART:20260409T110000
DTEND:20260409T120000
DESCRIPTION:Speaker: Martin van Hecke\nhosted by Scott Waitukaitis\nAbstrac
 t: Memory effects probe the complexity of disordered matter and its fundam
 ental constituents and interactions. While models based on independent ele
 ments capture generic memories\, interactions are predicted to produce man
 y interaction-induced memories which so far have been observed in artifici
 al systems only. Here we reveal that archetypical disordered materials - p
 olycrystalline alloys\, crumpled sheets\, and steel wool - store multiple 
 memories that strengthen with repeated cycling - in stark contrast to pred
 ictions for non-interacting systems. Interacting-based models capture our 
 observations and predict a cascade of interaction-induced memory motifs\, 
 including the dominant one observed here. Our results reveal hitherto hidd
 en complexity in disordered media\, opening a fresh route towards the obse
 rvation\, modeling and utilization of interaction-induced memories\, inclu
 ding for in-materia computing.
LOCATION:Mondi Seminar Room 2\, Central Building\, ISTA
ORGANIZER:cpetz@ist.ac.at
SUMMARY:Martin van Hecke: Interaction-Induced Memories Reveal the Complexit
 y of Disordered Matter
URL:https://talks-calendar.ista.ac.at/events/6380
END:VEVENT
END:VCALENDAR
