BEGIN:VCALENDAR
VERSION:2.0
PRODID:icalendar-ruby
CALSCALE:GREGORIAN
METHOD:PUBLISH
BEGIN:VTIMEZONE
TZID:Europe/Vienna
BEGIN:DAYLIGHT
DTSTART:20260329T030000
TZOFFSETFROM:+0100
TZOFFSETTO:+0200
RRULE:FREQ=YEARLY;BYDAY=-1SU;BYMONTH=3
TZNAME:CEST
END:DAYLIGHT
BEGIN:STANDARD
DTSTART:20261025T020000
TZOFFSETFROM:+0200
TZOFFSETTO:+0100
RRULE:FREQ=YEARLY;BYDAY=-1SU;BYMONTH=10
TZNAME:CET
END:STANDARD
END:VTIMEZONE
BEGIN:VEVENT
DTSTAMP:20260424T040533Z
UID:69c0fcd2533c8436387966@ist.ac.at
DTSTART:20260403T110000
DTEND:20260403T120000
DESCRIPTION:Speaker: Christian Santangelo\nhosted by Scott Waitukaitis\nAbs
 tract: The materials of biology\, from sharkskin to cartilage to wood\, re
 gularly out-perform their synthetic equivalents. Organisms can achieve thi
 s because their materials have precise geometric structures that endow the
 m with tailored mechanical properties that can often be changed in situ. I
 t has recently become possible to fabricate comparable structures through 
 3D printing\, but we still seem to understand little about how geometry an
 d mechanics are intertwined. This talk will discuss why this is a hard pro
 blem (NP-hard actually)\, and highlight new work by my group and collabora
 tors that are starting to unveil new connections between geometry and mech
 anics. This new understanding has allowed us to design materials that can 
 change their mechanical properties\, changing from rigid to floppy due to 
 the imposition of internal stresses\, and sheds light on the flexibility o
 f shells and other structures.
LOCATION:Moonstone Bldg / Ground floor / Seminar Room F (I24.EG.030f)\, IST
 A
ORGANIZER:cpetz@ist.ac.at
SUMMARY:Christian Santangelo: How geometry and topology make materials rigi
 d or floppy
URL:https://talks-calendar.ista.ac.at/events/6375
END:VEVENT
END:VCALENDAR
