BEGIN:VCALENDAR
VERSION:2.0
PRODID:icalendar-ruby
CALSCALE:GREGORIAN
METHOD:PUBLISH
BEGIN:VTIMEZONE
TZID:Europe/Vienna
BEGIN:DAYLIGHT
DTSTART:20260329T030000
TZOFFSETFROM:+0100
TZOFFSETTO:+0200
RRULE:FREQ=YEARLY;BYDAY=-1SU;BYMONTH=3
TZNAME:CEST
END:DAYLIGHT
BEGIN:STANDARD
DTSTART:20261025T020000
TZOFFSETFROM:+0200
TZOFFSETTO:+0100
RRULE:FREQ=YEARLY;BYDAY=-1SU;BYMONTH=10
TZNAME:CET
END:STANDARD
END:VTIMEZONE
BEGIN:VEVENT
DTSTAMP:20260424T143009Z
UID:69c13bfcda1b2375724544@ist.ac.at
DTSTART:20260401T140000
DTEND:20260401T150000
DESCRIPTION:Speaker: Vishwesha Guttal\nhosted by Vasudha Kulkarni\, Sylvia 
 Cremer\nAbstract: Biological systems are fundamentally shaped by stochasti
 city. In my talk\, I will demonstrate the key role of intrinsic noise\, wh
 ich are fluctuations arising from inherent probabilistic nature of biologi
 cal interactions and are amplified in finite systems. First\, I will demon
 strate\, using both theory and empirical data\, how noise can shape order 
 in small to intermediate-sized fish schools. Next\, I will show how noise 
 can inform us about the underlying ecological dynamics. Finally\, I will s
 how theoretically how the stochasticity of finite populations can exhibit 
 counter-intuitive dynamics on both ecological and evolutionary time scales
 .
LOCATION:Mondi Seminar Room 3\, Central Building\, ISTA
ORGANIZER:vkulkarn@ist.ac.at
SUMMARY:Vishwesha Guttal: The role of intrinsic noise in biological systems
 : from animal groups to populations to evolution
URL:https://talks-calendar.ista.ac.at/events/6372
END:VEVENT
END:VCALENDAR
