BEGIN:VCALENDAR
VERSION:2.0
PRODID:icalendar-ruby
CALSCALE:GREGORIAN
METHOD:PUBLISH
BEGIN:VTIMEZONE
TZID:Europe/Vienna
BEGIN:DAYLIGHT
DTSTART:20260329T030000
TZOFFSETFROM:+0100
TZOFFSETTO:+0200
RRULE:FREQ=YEARLY;BYDAY=-1SU;BYMONTH=3
TZNAME:CEST
END:DAYLIGHT
BEGIN:STANDARD
DTSTART:20261025T020000
TZOFFSETFROM:+0200
TZOFFSETTO:+0100
RRULE:FREQ=YEARLY;BYDAY=-1SU;BYMONTH=10
TZNAME:CET
END:STANDARD
END:VTIMEZONE
BEGIN:VEVENT
DTSTAMP:20260424T143228Z
UID:68dd5c2f40cb0196725380@ist.ac.at
DTSTART:20260414T110000
DTEND:20260414T130000
DESCRIPTION:Speaker: Prof. Dr. Olga Sorkine-Hornung\nhosted by Samara Ren\n
 Abstract: Textile materials are ubiquitous in traditional manufacturing\, 
 and many everyday objectsmost notably garments and footwearare made of fab
 ric. Fabrication with textiles supplies a plethora of interesting mathemat
 ical and engineering problems of high importance and impact in the real wo
 rld\, given that textile and fashion are one of the largest industries and
  contributes significantly to global economy and environmental conditions.
  Taking the perspective of geometry processing and computer graphics\, in 
 this talk I will discuss the interplay between the 2D nature of fabric and
  the goals of 3D shape modeling with such material\, focusing primarily on
  garment design and fabrication. I will discuss the exciting role geometri
 c computing can play in this domain and present some recent work of my res
 earch group that touches on theoretical and applied aspects of woven fabri
 c modeling\, garment construction and textile based fabrication.
LOCATION:Raiffeisen Lecture Hall\, Central Building\, ISTA
ORGANIZER:akeri@ist.ac.at
SUMMARY:Prof. Dr. Olga Sorkine-Hornung: Computational modeling and fabricat
 ion with textiles
URL:https://talks-calendar.ista.ac.at/events/6364
END:VEVENT
END:VCALENDAR
