BEGIN:VCALENDAR
VERSION:2.0
PRODID:icalendar-ruby
CALSCALE:GREGORIAN
METHOD:PUBLISH
BEGIN:VTIMEZONE
TZID:Europe/Vienna
BEGIN:DAYLIGHT
DTSTART:20260329T030000
TZOFFSETFROM:+0100
TZOFFSETTO:+0200
RRULE:FREQ=YEARLY;BYDAY=-1SU;BYMONTH=3
TZNAME:CEST
END:DAYLIGHT
BEGIN:STANDARD
DTSTART:20251026T020000
TZOFFSETFROM:+0200
TZOFFSETTO:+0100
RRULE:FREQ=YEARLY;BYDAY=-1SU;BYMONTH=10
TZNAME:CET
END:STANDARD
END:VTIMEZONE
BEGIN:VEVENT
DTSTAMP:20260424T170613Z
UID:6687bf08e3e68685081225@ist.ac.at
DTSTART:20260324T161500
DTEND:20260324T171500
DESCRIPTION:Speaker: Michiel De Wilde\nhosted by Robert Seiringer\nAbstract
 : Allow an ideal Bose gas to have any boundary condition. What kind of con
 densates are possible in the thermodynamic limit? We show that a suitable 
 sequence of boundary conditions for the Laplacian features the appearance 
 of an arbitrary number of condensates\, described by arbitrary harmonic fu
 nctions.
LOCATION:Office Bldg West / Ground floor / Heinzel Seminar Room (I21.EG.101
 )\, ISTA
ORGANIZER:boosthui@ist.ac.at
SUMMARY:Michiel De Wilde: Arbitrary harmonic functions as Bose-Einstein con
 densates
URL:https://talks-calendar.ista.ac.at/events/6359
END:VEVENT
END:VCALENDAR
