BEGIN:VCALENDAR
VERSION:2.0
PRODID:icalendar-ruby
CALSCALE:GREGORIAN
METHOD:PUBLISH
BEGIN:VTIMEZONE
TZID:Europe/Vienna
BEGIN:DAYLIGHT
DTSTART:20260329T030000
TZOFFSETFROM:+0100
TZOFFSETTO:+0200
RRULE:FREQ=YEARLY;BYDAY=-1SU;BYMONTH=3
TZNAME:CEST
END:DAYLIGHT
BEGIN:STANDARD
DTSTART:20261025T020000
TZOFFSETFROM:+0200
TZOFFSETTO:+0100
RRULE:FREQ=YEARLY;BYDAY=-1SU;BYMONTH=10
TZNAME:CET
END:STANDARD
END:VTIMEZONE
BEGIN:VEVENT
DTSTAMP:20260424T140831Z
UID:1791192600@ist.ac.at
DTSTART:20261005T113000
DTEND:20261005T123000
DESCRIPTION:Speaker: Friedrich Stricker & Yuval Wigderson\nhosted by Mikhai
 l Lemeshko
LOCATION:ISTA | Central Building | Raiffeisen Lecture Hall\, ISTA
ORGANIZER:diana.zubcevic@ista.ac.at
SUMMARY:Friedrich Stricker & Yuval Wigderson: Inaugural Lecture | Friedrich
  Stricker & Yuval Wigderson
URL:https://talks-calendar.ista.ac.at/events/6357
END:VEVENT
END:VCALENDAR
