BEGIN:VCALENDAR
VERSION:2.0
PRODID:icalendar-ruby
CALSCALE:GREGORIAN
METHOD:PUBLISH
BEGIN:VTIMEZONE
TZID:Europe/Vienna
BEGIN:DAYLIGHT
DTSTART:20260329T030000
TZOFFSETFROM:+0100
TZOFFSETTO:+0200
RRULE:FREQ=YEARLY;BYDAY=-1SU;BYMONTH=3
TZNAME:CEST
END:DAYLIGHT
BEGIN:STANDARD
DTSTART:20261025T020000
TZOFFSETFROM:+0200
TZOFFSETTO:+0100
RRULE:FREQ=YEARLY;BYDAY=-1SU;BYMONTH=10
TZNAME:CET
END:STANDARD
END:VTIMEZONE
BEGIN:VEVENT
DTSTAMP:20260425T193348Z
UID:1775646000@ist.ac.at
DTSTART:20260408T130000
DTEND:20260408T140000
DESCRIPTION:hosted by Pavol Harar\nAbstract: Dear colleagues\, let's talk a
 bout cryoEM/ET! Again!Registration: https://luma.com/sj5avat7 Intranet: h
 ttps://intranet.ista.ac.at/content/perma?id=180240 It is our pleasure to 
 invite you to the next CryoCoffee—a casual\, one-hour meetup (quarterly)
  for anyone at ISTA interested in cryo-electron microscopy (cryo-EM)\, cry
 o-electron tomography (cryo-ET)\, or related topics. Whether you work dire
 ctly with these techniques\, develop computational methods\, tackle invers
 e problems\, or are simply curious\, this is an opportunity to connect wit
 h others\, exchange ideas\, and find potential collaborations. We will be 
 happy to welcome biologists\, mathematicians\, computer scientists\, physi
 cists\, chemists\, and basically anyone interested in cryo. More info in t
 he registration link.The program includes a short talk followed by a Mini 
 Poster session to share fresh ideas—not finished projects.This is a perf
 ect opportunity to get early feedback from colleagues. Consider signing up
  for the casual A4 poster\, it is a great ice breaker that sparks fruitful
  discussions.
LOCATION:ErrorBar (Downtown)\, ISTA
ORGANIZER:Pavol.Harar@ista.ac.at
SUMMARY:5th CryoCoffee on 08th April 1PM in ErrorBar (Downtown) 
URL:https://talks-calendar.ista.ac.at/events/6355
END:VEVENT
END:VCALENDAR
