BEGIN:VCALENDAR
VERSION:2.0
PRODID:icalendar-ruby
CALSCALE:GREGORIAN
METHOD:PUBLISH
BEGIN:VTIMEZONE
TZID:Europe/Vienna
BEGIN:DAYLIGHT
DTSTART:20260329T030000
TZOFFSETFROM:+0100
TZOFFSETTO:+0200
RRULE:FREQ=YEARLY;BYDAY=-1SU;BYMONTH=3
TZNAME:CEST
END:DAYLIGHT
BEGIN:STANDARD
DTSTART:20261025T020000
TZOFFSETFROM:+0200
TZOFFSETTO:+0100
RRULE:FREQ=YEARLY;BYDAY=-1SU;BYMONTH=10
TZNAME:CET
END:STANDARD
END:VTIMEZONE
BEGIN:VEVENT
DTSTAMP:20260425T005040Z
UID:6925b824cd08b921483305@ist.ac.at
DTSTART:20260420T160000
DTEND:20260420T170000
DESCRIPTION:Speaker: Rémy Mahfouf\nhosted by Laszlo Erdös & Jan Maas\nAbs
 tract: In this talk\, I will present a new differential approach to unders
 tanding how the large-scale geometry of (near-)critical Ising and dimer mo
 dels evolves as their coupling constants are moved continuously. When this
  evolution is driven by random perturbations\, the question connects to th
 e stability of certain stochastic differential equations (SDEs)\, allowing
  the construction of (near-)critical random-bond Ising and dimer models wh
 ose critical window in a random environment is significantly larger than i
 n the deterministic setting.The talk is based on arXiv:2509.08928 and ongo
 ing work with Benot Laslier and Mikhail Basok.
LOCATION:Central Bldg / O1 / Mondi 2a (I01.O1.008)\, ISTA
ORGANIZER:boosthui@ist.ac.at
SUMMARY:Rémy Mahfouf: Travelling through (near) critical Ising and dimer m
 odels
URL:https://talks-calendar.ista.ac.at/events/6349
END:VEVENT
END:VCALENDAR
