BEGIN:VCALENDAR
VERSION:2.0
PRODID:icalendar-ruby
CALSCALE:GREGORIAN
METHOD:PUBLISH
BEGIN:VTIMEZONE
TZID:Europe/Vienna
BEGIN:DAYLIGHT
DTSTART:20260329T030000
TZOFFSETFROM:+0100
TZOFFSETTO:+0200
RRULE:FREQ=YEARLY;BYDAY=-1SU;BYMONTH=3
TZNAME:CEST
END:DAYLIGHT
BEGIN:STANDARD
DTSTART:20251026T020000
TZOFFSETFROM:+0200
TZOFFSETTO:+0100
RRULE:FREQ=YEARLY;BYDAY=-1SU;BYMONTH=10
TZNAME:CET
END:STANDARD
END:VTIMEZONE
BEGIN:VEVENT
DTSTAMP:20260424T233106Z
UID:665dbdca8de8d819167394@ist.ac.at
DTSTART:20260312T130000
DTEND:20260312T150000
DESCRIPTION:Speaker: Xujia Chen\nhosted by Tamas Hausel\nAbstract: I will g
 ive an introduction of what the Fulton-MacPherson compactified configurati
 on spaces are\, and how people use them to study embedding spaces between
  manifolds (for example\, the space of knots\, or diffeomorphism groups). 
 In the second part\, I will talk about some generalization of configuratio
 n spaces. 
LOCATION:Office Bldg West / Ground floor / Heinzel Seminar Room (I21.EG.101
 )\, ISTA
ORGANIZER:boosthui@ist.ac.at
SUMMARY:Xujia Chen: Configuration spaces\, their usage\, and a generalizati
 on
URL:https://talks-calendar.ista.ac.at/events/6340
END:VEVENT
END:VCALENDAR
