BEGIN:VCALENDAR
VERSION:2.0
PRODID:icalendar-ruby
CALSCALE:GREGORIAN
METHOD:PUBLISH
BEGIN:VTIMEZONE
TZID:Europe/Vienna
BEGIN:DAYLIGHT
DTSTART:20260329T030000
TZOFFSETFROM:+0100
TZOFFSETTO:+0200
RRULE:FREQ=YEARLY;BYDAY=-1SU;BYMONTH=3
TZNAME:CEST
END:DAYLIGHT
BEGIN:STANDARD
DTSTART:20261025T020000
TZOFFSETFROM:+0200
TZOFFSETTO:+0100
RRULE:FREQ=YEARLY;BYDAY=-1SU;BYMONTH=10
TZNAME:CET
END:STANDARD
END:VTIMEZONE
BEGIN:VEVENT
DTSTAMP:20260425T181413Z
UID:1777042800@ist.ac.at
DTSTART:20260424T170000
DTEND:20260424T230000
DESCRIPTION:hosted by Lange Nacht der Forschung\nAbstract: Curious about ho
 w scientists explore the world around us? Join us from 5:00 to 11:00 pm fo
 r an evening of discovery during the Long Night of Research. At our campus
  in Klosterneuburg near Vienna\, visitors of all ages are invited to step 
 inside the world of research and experience science in a welcoming\, open-
 door atmosphere. Families\, school groups\, and anyone with a curious mind
  can explore interactive stations\, meet researchers\, and see how scienti
 fic ideas come to life.Across 14 interactive stations\, guests can enjoy h
 ands-on experiments\, short talks\, and engaging demonstrations. Highlight
 s include a lively Science Show filled with exciting chemistry experiments
 \, the AstroLab\, where visitors can explore stars and galaxies and even b
 uild a mini spectroscope\, and the colorful Rainbow Liquid Tower\, where l
 iquids stack to reveal the science of density. You can also test climate s
 trategies in the Hotspot Earth game\, investigate animal science at CSI Ve
 tmed\, or discover what birdsong can reveal about the origins of music. At
  the VISTA Science Experience Center\, explore the exhibition Science in t
 he Making\, join family activities\, and watch the film Encounters in the 
 Milky Way. You can find more information about the program here: https://
 langenachtderforschung.at/ausstellungsstandort/15 Take advantage of the f
 ree shuttle bus from Vienna Heiligenstadt and Tulln to ISTA\, or the addit
 ional event shuttle bus with the following times: (https://ista.ac.at/wp-c
 ontent/uploads/2026/04/content_lnf_busplan_2026.png) 
LOCATION:Raiffeisen Lecture Hall\, Central Building & VISTA Science Experie
 nce Center\, ISTA
ORGANIZER:events@ista.ac.at
SUMMARY:Long Night of Research
URL:https://talks-calendar.ista.ac.at/events/6315
END:VEVENT
END:VCALENDAR
