BEGIN:VCALENDAR
VERSION:2.0
PRODID:icalendar-ruby
CALSCALE:GREGORIAN
METHOD:PUBLISH
BEGIN:VTIMEZONE
TZID:Europe/Vienna
BEGIN:DAYLIGHT
DTSTART:20260329T030000
TZOFFSETFROM:+0100
TZOFFSETTO:+0200
RRULE:FREQ=YEARLY;BYDAY=-1SU;BYMONTH=3
TZNAME:CEST
END:DAYLIGHT
BEGIN:STANDARD
DTSTART:20251026T020000
TZOFFSETFROM:+0200
TZOFFSETTO:+0100
RRULE:FREQ=YEARLY;BYDAY=-1SU;BYMONTH=10
TZNAME:CET
END:STANDARD
END:VTIMEZONE
BEGIN:VEVENT
DTSTAMP:20260424T075456Z
UID:1771341300@ist.ac.at
DTSTART:20260217T161500
DTEND:20260217T180000
DESCRIPTION:Speaker: Joscha Henheik\nhosted by László Erdös \nAbstract: 
 Abstract: In nature one finds superconductors of varying critical temperat
 ures and energy gaps. For weak superconductors\, where the critical temper
 ature is small\, a universal phenomenon occurs: The ratio of the energy ga
 p and critical temperature is a universal value\, independent of the speci
 fic superconductor. I will present recent work on such universal phenomena
  in the BCS theory of superconductivity.Based on joint works with A. B. La
 uritsen\, E. Langmann\, and B. Roos. 
LOCATION:Office Bldg West / Ground floor / Heinzel Seminar Room (I21.EG.101
 )\, ISTA
ORGANIZER:Birgit.Oosthuizen-Noczil@ist.ac.at
SUMMARY:Joscha Henheik: Universalities in BCS theory
URL:https://talks-calendar.ista.ac.at/events/6290
END:VEVENT
END:VCALENDAR
