BEGIN:VCALENDAR
VERSION:2.0
PRODID:icalendar-ruby
CALSCALE:GREGORIAN
METHOD:PUBLISH
BEGIN:VTIMEZONE
TZID:Europe/Vienna
BEGIN:DAYLIGHT
DTSTART:20260329T030000
TZOFFSETFROM:+0100
TZOFFSETTO:+0200
RRULE:FREQ=YEARLY;BYDAY=-1SU;BYMONTH=3
TZNAME:CEST
END:DAYLIGHT
BEGIN:STANDARD
DTSTART:20251026T020000
TZOFFSETFROM:+0200
TZOFFSETTO:+0100
RRULE:FREQ=YEARLY;BYDAY=-1SU;BYMONTH=10
TZNAME:CET
END:STANDARD
END:VTIMEZONE
BEGIN:VEVENT
DTSTAMP:20260424T170533Z
UID:665dbdca8cda4207092114@ist.ac.at
DTSTART:20260305T130000
DTEND:20260305T150000
DESCRIPTION:Speaker: Elsa Maneval\nhosted by Tamas Hausel\nAbstract: I will
  first introduce the moduli spaces of Higgs bundles that appear in the Hau
 sel-Thaddeus topological mirror symmetry conjecture\, present the context\
 , the different proofs and possible generalisations. In particular I will 
 explain the p-adic integration approach of Groechenig\, Wyss and Ziegler. 
 Finally\, I will present my result\, which is a generalisation beyond the 
 coprime case of the key intermediate step of this approach\, which we call
  a non-archimedean topological mirror symmetry.
LOCATION:Office Bldg West / Ground floor / Heinzel Seminar Room (I21.EG.101
 )\, ISTA
ORGANIZER:boosthui@ist.ac.at
SUMMARY:Elsa Maneval: Mirror symmetry for Higgs bundles
URL:https://talks-calendar.ista.ac.at/events/6270
END:VEVENT
END:VCALENDAR
