BEGIN:VCALENDAR
VERSION:2.0
PRODID:icalendar-ruby
CALSCALE:GREGORIAN
METHOD:PUBLISH
BEGIN:VTIMEZONE
TZID:Europe/Vienna
BEGIN:DAYLIGHT
DTSTART:20260329T030000
TZOFFSETFROM:+0100
TZOFFSETTO:+0200
RRULE:FREQ=YEARLY;BYDAY=-1SU;BYMONTH=3
TZNAME:CEST
END:DAYLIGHT
BEGIN:STANDARD
DTSTART:20251026T020000
TZOFFSETFROM:+0200
TZOFFSETTO:+0100
RRULE:FREQ=YEARLY;BYDAY=-1SU;BYMONTH=10
TZNAME:CET
END:STANDARD
END:VTIMEZONE
BEGIN:VEVENT
DTSTAMP:20260424T143416Z
UID:665dbdca90071525382795@ist.ac.at
DTSTART:20260326T131500
DTEND:20260326T150000
DESCRIPTION:Speaker: Volodymyr Mazorchuk\nhosted by Tamas Hausel\nAbstract:
  In the first half  of the talk\, I will give a general introduction to t
 he so-called Kostant's problem for Lie algebra modules\, as formulated by 
 Joseph in 1980.In the second half\, I will discuss a few recent results on
  this problem for  simple  highest weight modules and related properties
  of Kazhdan-Lusztig combinatorics.
LOCATION:Office Bldg West / Ground floor / Heinzel Seminar Room (I21.EG.101
 )\, ISTA
ORGANIZER:boosthui@ist.ac.at
SUMMARY:Volodymyr Mazorchuk: Kostant's problem for highest weight modules
URL:https://talks-calendar.ista.ac.at/events/6259
END:VEVENT
END:VCALENDAR
