BEGIN:VCALENDAR
VERSION:2.0
PRODID:icalendar-ruby
CALSCALE:GREGORIAN
METHOD:PUBLISH
BEGIN:VTIMEZONE
TZID:Europe/Vienna
BEGIN:DAYLIGHT
DTSTART:20260329T030000
TZOFFSETFROM:+0100
TZOFFSETTO:+0200
RRULE:FREQ=YEARLY;BYDAY=-1SU;BYMONTH=3
TZNAME:CEST
END:DAYLIGHT
BEGIN:STANDARD
DTSTART:20251026T020000
TZOFFSETFROM:+0200
TZOFFSETTO:+0100
RRULE:FREQ=YEARLY;BYDAY=-1SU;BYMONTH=10
TZNAME:CET
END:STANDARD
END:VTIMEZONE
BEGIN:VEVENT
DTSTAMP:20260424T233057Z
UID:1770737400@ist.ac.at
DTSTART:20260210T163000
DTEND:20260210T184500
DESCRIPTION:Speaker: portraittheater\nhosted by EDI office\nAbstract: In re
 cognition of the International Day (https://public-eur.mkt.dynamics.com/ap
 i/orgs/c4c27152-17ec-47dc-b101-24b7ac15e0e6/r/k_h0351QHEa1pmlqp78CAAMAAAA?
 msdynmkt_target=%7B%22TargetUrl%22%3A%22https%253A%252F%252Fwww.unesco.org
 %252Fen%252Fdays%252Fwomen-girls-science%22%2C%22RedirectOptions%22%3A%7B%
 225%22%3Anull%2C%221%22%3Anull%7D%7D&msdynmkt_digest=CSoimo4dB%2B2k4vLMgKO
 11JEDUE4pPJHRsTQicKGCrnw%3D&msdynmkt_secretVersion=7bb221762d0c46939816d3a
 5592b1359) of Women and Girls in Science (https://public-eur.mkt.dynamics.
 com/api/orgs/c4c27152-17ec-47dc-b101-24b7ac15e0e6/r/k_h0351QHEa1pmlqp78CAA
 MAAAA?msdynmkt_target=%7B%22TargetUrl%22%3A%22https%253A%252F%252Fwww.unes
 co.org%252Fen%252Fdays%252Fwomen-girls-science%22%2C%22RedirectOptions%22%
 3A%7B%225%22%3Anull%2C%221%22%3Anull%7D%7D&msdynmkt_digest=CSoimo4dB%2B2k4
 vLMgKO11JEDUE4pPJHRsTQicKGCrnw%3D&msdynmkt_secretVersion=7bb221762d0c46939
 816d3a5592b1359)\, we are organizing a special event on the ISTA campus.T
 he program will feature a performance of “Curie_Meitner_Lamarr_INDIVISIB
 LE” (https://www.portraittheater.net/?portfolio=curie-meitner-lamarr-ind
 ivisible#msdynmkt_trackingcontext=df74f893-509d-461c-b5a6-696aa7bf0200) by
  portraittheater\, a documentary-style theatre production that brings tog
 ether the stories and scientific achievements of Marie Sklodowska-Curie\, 
 Lise Meitner\, and Hedy Lamarr. Blending historical sources with live perf
 ormance\, the play highlights both their groundbreaking contributions to s
 cience and technology\, and the structural barriers they faced\, including
  displacement and migration in pursuit of scientific careers. It also addr
 esses the importance of supportive environments and male allyship in enabl
 ing scientific excellence.The performance will be followed by a panel disc
 ussion with ISTA professors\, reflecting on the play's themes and their re
 levance to the current academic landscape and the future of women in STEM.
 A reception will conclude the evening.Transportation:  In addition to the
  regular ISTA shuttle bus\, a special shuttle will depart from Heiligens
 tadt at 3:30 pm\, with a stop at Klosterneuburg Stadtplatz\, and will ret
 urn from ISTA to Heiligenstadt at 8:00 pm. Click HERE (https://ista.ac.at/
 en/campus/how-to-get-here/) for more information.The aim is to organize th
 e event in accordance with the criteria of the Austrian Ecolabel for Green
  Meetings (https://www.umweltzeichen.at/de/green-meetings-und-events/home)
 . If you have any questions about the event's sustainability standards\, p
 lease contact the Green Event Officer Julia Kainrath (julia.kainrath@ista
 .ac.at).
LOCATION:ISTA - Raiffeisen Lecture Hall\, ISTA
ORGANIZER:
SUMMARY:portraittheater: Women in Science
URL:https://talks-calendar.ista.ac.at/events/6233
END:VEVENT
END:VCALENDAR
