BEGIN:VCALENDAR
VERSION:2.0
PRODID:icalendar-ruby
CALSCALE:GREGORIAN
METHOD:PUBLISH
BEGIN:VTIMEZONE
TZID:Europe/Vienna
BEGIN:DAYLIGHT
DTSTART:20260329T030000
TZOFFSETFROM:+0100
TZOFFSETTO:+0200
RRULE:FREQ=YEARLY;BYDAY=-1SU;BYMONTH=3
TZNAME:CEST
END:DAYLIGHT
BEGIN:STANDARD
DTSTART:20251026T020000
TZOFFSETFROM:+0200
TZOFFSETTO:+0100
RRULE:FREQ=YEARLY;BYDAY=-1SU;BYMONTH=10
TZNAME:CET
END:STANDARD
END:VTIMEZONE
BEGIN:VEVENT
DTSTAMP:20260424T143011Z
UID:696142d841dd4804203517@ist.ac.at
DTSTART:20260115T093000
DTEND:20260115T104500
DESCRIPTION:Speaker: Stefano Bosco\nhosted by Georgios Katsaros\nAbstract: 
 In this talk\, I will discuss recent advances in quantum computing with ho
 le-spin qubits\, focusing on planar germanium platforms. These systems pro
 vide electrically tunable spin properties\, occasionally) strong spin-orbi
 t interactions\, and compatibility with superconducting hybrid circuits\, 
 making them well suited for scaling quantum architectures. I will highligh
 t new progresses in engineering the spin response in these platforms\, pro
 gress in fast baseband electrical control of gapless qubits\, high-fidelit
 y readout schemes based on Andreev qubits\, illustrating the potential of 
 germanium-based devices for scalable quantum processors.
LOCATION:Office Bldg West / Ground floor / Heinzel Seminar Room (I21.EG.101
 )\, ISTA
ORGANIZER:gkatsaro@ist.ac.at
SUMMARY:Stefano Bosco: Quantum Computing with Germanium
URL:https://talks-calendar.ista.ac.at/events/6231
END:VEVENT
END:VCALENDAR
