BEGIN:VCALENDAR
VERSION:2.0
PRODID:icalendar-ruby
CALSCALE:GREGORIAN
METHOD:PUBLISH
BEGIN:VTIMEZONE
TZID:Europe/Vienna
BEGIN:DAYLIGHT
DTSTART:20260329T030000
TZOFFSETFROM:+0100
TZOFFSETTO:+0200
RRULE:FREQ=YEARLY;BYDAY=-1SU;BYMONTH=3
TZNAME:CEST
END:DAYLIGHT
BEGIN:STANDARD
DTSTART:20251026T020000
TZOFFSETFROM:+0200
TZOFFSETTO:+0100
RRULE:FREQ=YEARLY;BYDAY=-1SU;BYMONTH=10
TZNAME:CET
END:STANDARD
END:VTIMEZONE
BEGIN:VEVENT
DTSTAMP:20260424T143309Z
UID:1768996800@ist.ac.at
DTSTART:20260121T130000
DTEND:20260121T140000
DESCRIPTION:hosted by Pavol Harar\nAbstract: Dear colleagues\, let's talk a
 bout cryoEM/ET! Again!Registration: https://lu.ma/n5h7pyh7 Intranet: http
 s://intranet.ista.ac.at/content/perma?id=175132 It is our pleasure to inv
 ite you to the next CryoCoffee—a casual\, one-hour meetup (quarterly) fo
 r anyone at ISTA interested in cryo-electron microscopy (cryo-EM)\, cryo-e
 lectron tomography (cryo-ET)\, or related topics. Whether you work directl
 y with these techniques\, develop computational methods\, tackle inverse p
 roblems\, or are simply curious\, this is an opportunity to connect with o
 thers\, exchange ideas\, and find potential collaborations. We will be hap
 py to welcome biologists\, mathematicians\, computer scientists\, physicis
 ts\, chemists\, and basically anyone interested in cryo. More info in the 
 registration link.The program includes a short talk followed by a Mini Pos
 ter session to share fresh ideas—not finished projects.This is a perfect
  opportunity to get early feedback from colleagues. Consider signing up fo
 r the casual A4 poster\, it is a great ice breaker that sparks fruitful di
 scussions.
LOCATION:ErrorBar (Downtown)\, ISTA
ORGANIZER:Pavol.Harar@ista.ac.at
SUMMARY:4th CryoCoffee
URL:https://talks-calendar.ista.ac.at/events/6214
END:VEVENT
END:VCALENDAR
