BEGIN:VCALENDAR
VERSION:2.0
PRODID:icalendar-ruby
CALSCALE:GREGORIAN
METHOD:PUBLISH
BEGIN:VTIMEZONE
TZID:Europe/Vienna
BEGIN:DAYLIGHT
DTSTART:20260329T030000
TZOFFSETFROM:+0100
TZOFFSETTO:+0200
RRULE:FREQ=YEARLY;BYDAY=-1SU;BYMONTH=3
TZNAME:CEST
END:DAYLIGHT
BEGIN:STANDARD
DTSTART:20261025T020000
TZOFFSETFROM:+0200
TZOFFSETTO:+0100
RRULE:FREQ=YEARLY;BYDAY=-1SU;BYMONTH=10
TZNAME:CET
END:STANDARD
END:VTIMEZONE
BEGIN:VEVENT
DTSTAMP:20260424T081433Z
UID:1781600400@ist.ac.at
DTSTART:20260616T110000
DTEND:20260616T120000
DESCRIPTION:Speaker: Michael Buchhold\nhosted by Maksym Serbyn\nAbstract: T
 BA
LOCATION:Office Building West/Ground Floor/Heinzel Seminar Room\, ISTA
ORGANIZER:Stephanie.Dolot@ist.ac.at
SUMMARY:Michael Buchhold: Quantum Colloquium | Michael Buchhold
URL:https://talks-calendar.ista.ac.at/events/6211
END:VEVENT
END:VCALENDAR
