BEGIN:VCALENDAR
VERSION:2.0
PRODID:icalendar-ruby
CALSCALE:GREGORIAN
METHOD:PUBLISH
BEGIN:VTIMEZONE
TZID:Europe/Vienna
BEGIN:DAYLIGHT
DTSTART:20260329T030000
TZOFFSETFROM:+0100
TZOFFSETTO:+0200
RRULE:FREQ=YEARLY;BYDAY=-1SU;BYMONTH=3
TZNAME:CEST
END:DAYLIGHT
BEGIN:STANDARD
DTSTART:20261025T020000
TZOFFSETFROM:+0200
TZOFFSETTO:+0100
RRULE:FREQ=YEARLY;BYDAY=-1SU;BYMONTH=10
TZNAME:CET
END:STANDARD
END:VTIMEZONE
BEGIN:VEVENT
DTSTAMP:20260424T074202Z
UID:1777366800@ist.ac.at
DTSTART:20260428T110000
DTEND:20260428T120000
DESCRIPTION:Speaker: Jean-Philippe Brantut\nhosted by Julian Leonard\nAbstr
 act: Abstract:Cavity quantum electrodynamics (QED) is one of the most powe
 rful framework to observe and leverage quantum phenomena. While it has bee
 n thoroughly studied for simple quantum systems such as two-level systems 
 or harmonic oscillators\, it has recently become available for complex\, c
 orrelated quantum many-body systems. In the last years\, we have developed
  systems combining cavity QED with cold Fermi gases. In such a system\, v
 irtual photon exchanges between atoms yield a long-range interaction leadi
 ng to emergent phenomena. I will describe how it induces charge-density wa
 ve ordering\, and the deep insights on this transition provided by real-ti
 me measurements and high spatial resolution. I will then discuss the inter
 play of pairing\, Pauli blocking and light-matter interactions in this sys
 tem\, the status of our understanding and some open questions. Last\, I wi
 ll outline the perspective open for quantum simulations in this platform\,
  both from the conceptual and technological point of view. 
LOCATION:Office Building West/Ground Floor/Heinzel Seminar Room\, ISTA
ORGANIZER:
SUMMARY:Jean-Philippe Brantut: Quantum Simulations with Atoms and Photons
URL:https://talks-calendar.ista.ac.at/events/6210
END:VEVENT
END:VCALENDAR
