BEGIN:VCALENDAR
VERSION:2.0
PRODID:icalendar-ruby
CALSCALE:GREGORIAN
METHOD:PUBLISH
BEGIN:VTIMEZONE
TZID:Europe/Vienna
BEGIN:DAYLIGHT
DTSTART:20260329T030000
TZOFFSETFROM:+0100
TZOFFSETTO:+0200
RRULE:FREQ=YEARLY;BYDAY=-1SU;BYMONTH=3
TZNAME:CEST
END:DAYLIGHT
BEGIN:STANDARD
DTSTART:20251026T020000
TZOFFSETFROM:+0200
TZOFFSETTO:+0100
RRULE:FREQ=YEARLY;BYDAY=-1SU;BYMONTH=10
TZNAME:CET
END:STANDARD
END:VTIMEZONE
BEGIN:VEVENT
DTSTAMP:20260424T102203Z
UID:68b8178293aab806898540@ist.ac.at
DTSTART:20251201T170000
DTEND:20251201T180000
DESCRIPTION:Speaker: Quentin Moulard\nhosted by Laszlo Erdös & Jan Maas\nA
 bstract: We study the dimer model on the square grid in a layered random e
 nvironment: the edge weights are constant along each row but are i.i.d. sa
 mpled between rows. This disorder structure is inspired by the celebrated 
 two-dimensional McCoyWu disordered Ising model. The disorder produces dram
 atic effects that I will discuss. First\, we find an essential singularity
  of the free energy (which has no analogue for the pure dimer model)\, whe
 re dimer-dimer correlations decay as exp(-\\sqrt{distance}). Besides\, the
  critical exponent 3/2 (PokrovskyTalapov law) at the liquid-solid transiti
 on remains unchanged\, while at the liquid-gaseous transition it now range
 s continuously between 3/2 and infinity.This is based on a joint work with
  Fabio Toninelli (arXiv:2507.11964).
LOCATION:Central Bldg / O1 / Mondi 2a (I01.O1.008)\, ISTA
ORGANIZER:boosthui@ist.ac.at
SUMMARY:Quentin Moulard: Dimers with layered disorder
URL:https://talks-calendar.ista.ac.at/events/6172
END:VEVENT
END:VCALENDAR
