BEGIN:VCALENDAR
VERSION:2.0
PRODID:icalendar-ruby
CALSCALE:GREGORIAN
METHOD:PUBLISH
BEGIN:VTIMEZONE
TZID:Europe/Vienna
BEGIN:DAYLIGHT
DTSTART:20260329T030000
TZOFFSETFROM:+0100
TZOFFSETTO:+0200
RRULE:FREQ=YEARLY;BYDAY=-1SU;BYMONTH=3
TZNAME:CEST
END:DAYLIGHT
BEGIN:STANDARD
DTSTART:20251026T020000
TZOFFSETFROM:+0200
TZOFFSETTO:+0100
RRULE:FREQ=YEARLY;BYDAY=-1SU;BYMONTH=10
TZNAME:CET
END:STANDARD
END:VTIMEZONE
BEGIN:VEVENT
DTSTAMP:20260424T141130Z
UID:1763989200@ist.ac.at
DTSTART:20251124T140000
DTEND:20251124T150000
DESCRIPTION:Speaker: Yoko Ikeda\nhosted by Xiaoqi Feng\nAbstract: Among epi
 genetic regulatory mechanisms\, both DNA methylation and histone modificat
 ions are known to be inherited through cell division. However\, in plants\
 , (CG) DNA methylation is generally maintained more stably across generati
 ons\, whereas histone modifications are often reset during gametogenesis a
 nd early embryogenesis. I am interested in the regulatory machinery underl
 ying these two epigenetic layers and have been investigating their dynamic
 s using Arabidopsis\, Marchantia\, and barley. In this presentation\, I wi
 ll introduce our recent work on the control of 5-methylcytosine during dif
 ferent life stages of Marchantia\, in which we are analyzing mutants of DN
 A methyltransferase and DNA demethylase to dissect the regulatory mechanis
 ms involved. In addition\, we have uncovered a novel histone-modification 
 mediated pathway involving barley EMF1 that regulates awn elongation\, and
  we are currently exploring its detailed molecular mechanisms. These findi
 ngs provide new insights into how distinct epigenetic systems operate and 
 have developed in plants.
LOCATION:Moonstone Bldg / Ground floor / Seminar Room C\, ISTA
ORGANIZER:Xiaoqi.Feng@ist.ac.at
SUMMARY:Yoko Ikeda: Epigenetic Regulation in Marchantia and Barley
URL:https://talks-calendar.ista.ac.at/events/6164
END:VEVENT
END:VCALENDAR
