BEGIN:VCALENDAR
VERSION:2.0
PRODID:icalendar-ruby
CALSCALE:GREGORIAN
METHOD:PUBLISH
BEGIN:VTIMEZONE
TZID:Europe/Vienna
BEGIN:DAYLIGHT
DTSTART:20260329T030000
TZOFFSETFROM:+0100
TZOFFSETTO:+0200
RRULE:FREQ=YEARLY;BYDAY=-1SU;BYMONTH=3
TZNAME:CEST
END:DAYLIGHT
BEGIN:STANDARD
DTSTART:20251026T020000
TZOFFSETFROM:+0200
TZOFFSETTO:+0100
RRULE:FREQ=YEARLY;BYDAY=-1SU;BYMONTH=10
TZNAME:CET
END:STANDARD
END:VTIMEZONE
BEGIN:VEVENT
DTSTAMP:20260424T143244Z
UID:6687bf08e3df0610042330@ist.ac.at
DTSTART:20251118T161500
DTEND:20251118T171500
DESCRIPTION:Speaker: Jean Dolbeault\nhosted by Jan Maas / Giovanni Brigati\
 nAbstract: This lecture will be devoted to a review of recent results on n
 onlinear interpolation inequalities\, branches of optimizers\, and the cla
 ssification of some phase transitions between symmetry and symmetry breaki
 ng regimes. When symmetry occurs\, spectral and entropy methods can be use
 d to obtain improved inequalities\, improved rates of convergence for the 
 corresponding nonlinear diffusion flows\, and stability results.
LOCATION:Office Bldg West / Ground floor / Heinzel Seminar Room (I21.EG.101
 )\, ISTA
ORGANIZER:boosthui@ist.ac.at
SUMMARY:Jean Dolbeault: Symmetry\, symmetry breaking\, and phase transition
 s in interpolation inequalities
URL:https://talks-calendar.ista.ac.at/events/6159
END:VEVENT
END:VCALENDAR
