BEGIN:VCALENDAR
VERSION:2.0
PRODID:icalendar-ruby
CALSCALE:GREGORIAN
METHOD:PUBLISH
BEGIN:VTIMEZONE
TZID:Europe/Vienna
BEGIN:DAYLIGHT
DTSTART:20260329T030000
TZOFFSETFROM:+0100
TZOFFSETTO:+0200
RRULE:FREQ=YEARLY;BYDAY=-1SU;BYMONTH=3
TZNAME:CEST
END:DAYLIGHT
BEGIN:STANDARD
DTSTART:20251026T020000
TZOFFSETFROM:+0200
TZOFFSETTO:+0100
RRULE:FREQ=YEARLY;BYDAY=-1SU;BYMONTH=10
TZNAME:CET
END:STANDARD
END:VTIMEZONE
BEGIN:VEVENT
DTSTAMP:20260424T170543Z
UID:1763460000@ist.ac.at
DTSTART:20251118T110000
DTEND:20251118T120000
DESCRIPTION:Speaker: Nikita Kavokine\nhosted by Baptiste Coquinot (Lemeshko
  Group)\nAbstract: Liquids are traditionally described within classical ph
 ysics\, whereas solids require the tools of quantum mechanics. I will disc
 uss how in nanoscale systems\, this distinction no longer holds. The dynam
 ics of liquids confined to nanometer-scale channels can couple to the inte
 rnal degrees of freedom of the channel walls – in particular\, electrons
  and phonons. This gives rise to a liquid-solid Coulomb drag effect\, whic
 h holds promise for hydroelectric energy conversion at small scales. Conve
 rsely\, electronic properties of 2D materials can be affected in non-trivi
 al ways by the presence of liquids such as water. Using quantum embedding 
 calculations\, we have demonstrated that liquid charge fluctuations can in
 duce retarded pairing of electrons\, which then form an unusual bipolaroni
 c metal phase. 
LOCATION:Office Bldg West / Ground floor / Heinzel Seminar Room\, ISTA
ORGANIZER:
SUMMARY:Nikita Kavokine: Quantum couplings at nanoscale solid-liquid interf
 aces 
URL:https://talks-calendar.ista.ac.at/events/6147
END:VEVENT
END:VCALENDAR
