BEGIN:VCALENDAR
VERSION:2.0
PRODID:icalendar-ruby
CALSCALE:GREGORIAN
METHOD:PUBLISH
BEGIN:VTIMEZONE
TZID:Europe/Vienna
BEGIN:DAYLIGHT
DTSTART:20260329T030000
TZOFFSETFROM:+0100
TZOFFSETTO:+0200
RRULE:FREQ=YEARLY;BYDAY=-1SU;BYMONTH=3
TZNAME:CEST
END:DAYLIGHT
BEGIN:STANDARD
DTSTART:20251026T020000
TZOFFSETFROM:+0200
TZOFFSETTO:+0100
RRULE:FREQ=YEARLY;BYDAY=-1SU;BYMONTH=10
TZNAME:CET
END:STANDARD
END:VTIMEZONE
BEGIN:VEVENT
DTSTAMP:20260424T125204Z
UID:6847fd5934093822492663@ist.ac.at
DTSTART:20251105T153000
DTEND:20251105T163000
DESCRIPTION:Speaker: Kurt Johansson\nhosted by Laszlo Erdös & Uli Wagner\n
 Abstract: I will survey recent work on the partition function of planar Co
 ulomb gases confined to a curve or a region in the complex plane.A basic q
 uestion is how the geometry or regularity of the curve or boundary of the 
 region is reflected in the asymptotics of the partition function as the nu
 mber of particles goes to infinity? It turns out that the asymptotic is re
 lated to a quantity called the Loewner energy\, which has been of interest
  in other contexts recently\, and that the regularity\, in the case of a J
 ordan curve\, is that it is a so called Weil-Petersson quasicircle.Based o
 n joint work with Klara Courteaut and Fredrik Viklund.
LOCATION:Raiffeisen Lecture Hall\, Central Building\, ISTA
ORGANIZER:boosthui@ist.ac.at
SUMMARY:Kurt Johansson: Planar Coulomb gases on curves and domains
URL:https://talks-calendar.ista.ac.at/events/6096
END:VEVENT
END:VCALENDAR
