BEGIN:VCALENDAR
VERSION:2.0
PRODID:icalendar-ruby
CALSCALE:GREGORIAN
METHOD:PUBLISH
BEGIN:VTIMEZONE
TZID:Europe/Vienna
BEGIN:DAYLIGHT
DTSTART:20250330T030000
TZOFFSETFROM:+0100
TZOFFSETTO:+0200
RRULE:FREQ=YEARLY;BYDAY=-1SU;BYMONTH=3
TZNAME:CEST
END:DAYLIGHT
BEGIN:STANDARD
DTSTART:20251026T020000
TZOFFSETFROM:+0200
TZOFFSETTO:+0100
RRULE:FREQ=YEARLY;BYDAY=-1SU;BYMONTH=10
TZNAME:CET
END:STANDARD
END:VTIMEZONE
BEGIN:VEVENT
DTSTAMP:20260424T125155Z
UID:68df855669b50272476131@ist.ac.at
DTSTART:20251020T110000
DTEND:20251020T120000
DESCRIPTION:Speaker: Stanisław Żukowski\nhosted by Edouard Hannezo\nAbstr
 act: This talk is about how to model growth of transport networks in respo
 nse to physical fields\, such as concentration of growth factors or tensio
 n.
LOCATION:Sunstone Bldg / Ground floor / Big Seminar Room A / 27 seats (I23.
 EG.102)\, ISTA
ORGANIZER:cpetz@ist.ac.at
SUMMARY:Stanisław Żukowski: Branching morphogenesis driven by physical fi
 elds
URL:https://talks-calendar.ista.ac.at/events/6061
END:VEVENT
END:VCALENDAR
