BEGIN:VCALENDAR
VERSION:2.0
PRODID:icalendar-ruby
CALSCALE:GREGORIAN
METHOD:PUBLISH
BEGIN:VTIMEZONE
TZID:Europe/Vienna
BEGIN:DAYLIGHT
DTSTART:20250330T030000
TZOFFSETFROM:+0100
TZOFFSETTO:+0200
RRULE:FREQ=YEARLY;BYDAY=-1SU;BYMONTH=3
TZNAME:CEST
END:DAYLIGHT
BEGIN:STANDARD
DTSTART:20251026T020000
TZOFFSETFROM:+0200
TZOFFSETTO:+0100
RRULE:FREQ=YEARLY;BYDAY=-1SU;BYMONTH=10
TZNAME:CET
END:STANDARD
END:VTIMEZONE
BEGIN:VEVENT
DTSTAMP:20260424T040535Z
UID:1761037200@ist.ac.at
DTSTART:20251021T110000
DTEND:20251021T120000
DESCRIPTION:Speaker: Angela Wittmann\nhosted by Latha Venkataraman \nAbstra
 ct: Driven by the idea of mathematical beauty and aesthetics\, the natural
  sciences tend to focus on systems with high symmetry. However\, taking a 
 closer look at nature\, we find that broken symmetry especially in the for
 m of chirality is omnipresent in our surroundings. Recently\, the importan
 ce of chirality for molecular function and\, in particular\, the chiral-in
 duced spin selectivity (CISS) effect has sparked broad interest in chiral 
 molecules. The remarkably high spin polarization generation efficiency of 
 chiral molecules via the CISS effect promises novel\, sustainable hybrid c
 hiral spintronic applications. However\, despite intense experimental and 
 theoretical investigations\, the microscopic origin of CISS remains debate
 d. While research has predominantly focused on transport properties so far
 \, in our work\, we explore spintronic phenomena at hybrid chiral molecule
  magnetic interfaces. For this\, we investigate the interfacial spin-orbit
  coupling in chiral molecule/metal thin film heterostructures by probing t
 he chirality and spin-dependent spin-to-charge conversion. Our findings va
 lidate the central role of spin orbit coupling for the CISS effect\, pavin
 g the path toward the functionalization of hybrid molecule-metal interface
 s via chirality. 
LOCATION:Office Bldg West / Ground floor / Heinzel Seminar Room (I21.EG.101
 )\, ISTA
ORGANIZER:Rita.Pacarada@ist.ac.at
SUMMARY:Angela Wittmann: Exploring spin at hybrid chiral interfaces
URL:https://talks-calendar.ista.ac.at/events/6056
END:VEVENT
END:VCALENDAR
