BEGIN:VCALENDAR
VERSION:2.0
PRODID:icalendar-ruby
CALSCALE:GREGORIAN
METHOD:PUBLISH
BEGIN:VTIMEZONE
TZID:Europe/Vienna
BEGIN:DAYLIGHT
DTSTART:20250330T030000
TZOFFSETFROM:+0100
TZOFFSETTO:+0200
RRULE:FREQ=YEARLY;BYDAY=-1SU;BYMONTH=3
TZNAME:CEST
END:DAYLIGHT
BEGIN:STANDARD
DTSTART:20251026T020000
TZOFFSETFROM:+0200
TZOFFSETTO:+0100
RRULE:FREQ=YEARLY;BYDAY=-1SU;BYMONTH=10
TZNAME:CET
END:STANDARD
END:VTIMEZONE
BEGIN:VEVENT
DTSTAMP:20260424T143216Z
UID:1758884400@ist.ac.at
DTSTART:20250926T130000
DTEND:20250926T180000
DESCRIPTION:Abstract: We are excited to announce the first annual Neuroscie
 nce Faculty Symposium organized by your student neuroscience track represe
 ntatives!Every neuroscience PI will hold a brief talk discussing their la
 b's current research. The symposium will include catered breaks! Please a
 lso join us for the Pizza Reception following the talks. The finalized pr
 ogram is attached.Please sign up here: https://forms.gle/G1MjZkMzQPTnbEH
 q9We look forward to seeing you all there!
LOCATION:Raiffeisen Lecture Hall\, ISTA
ORGANIZER:
SUMMARY:Neuroscience Faculty Symposium
URL:https://talks-calendar.ista.ac.at/events/6034
END:VEVENT
END:VCALENDAR
