BEGIN:VCALENDAR
VERSION:2.0
PRODID:icalendar-ruby
CALSCALE:GREGORIAN
METHOD:PUBLISH
BEGIN:VTIMEZONE
TZID:Europe/Vienna
BEGIN:DAYLIGHT
DTSTART:20250330T030000
TZOFFSETFROM:+0100
TZOFFSETTO:+0200
RRULE:FREQ=YEARLY;BYDAY=-1SU;BYMONTH=3
TZNAME:CEST
END:DAYLIGHT
BEGIN:STANDARD
DTSTART:20251026T020000
TZOFFSETFROM:+0200
TZOFFSETTO:+0100
RRULE:FREQ=YEARLY;BYDAY=-1SU;BYMONTH=10
TZNAME:CET
END:STANDARD
END:VTIMEZONE
BEGIN:VEVENT
DTSTAMP:20260424T040731Z
UID:1757588400@ist.ac.at
DTSTART:20250911T130000
DTEND:20250911T140000
DESCRIPTION:Speaker: Benoit Arragain\nhosted by Pavol Harar\nAbstract: Dear
  colleagues\, let's talk about cryoEM/ET! Again!Registration: https://lu.m
 a/alymqkd9Intranet: https://intranet.ista.ac.at/content/perma?id=165431It 
 is our pleasure to invite you to the next CryoCoffee—a casual\, one-hour
  meetup (quarterly) for anyone at ISTA interested in cryo-electron microsc
 opy (cryo-EM)\, cryo-electron tomography (cryo-ET)\, or related topics. Wh
 ether you work directly with these techniques\, develop computational meth
 ods\, tackle inverse problems\, or are simply curious\, this is an opportu
 nity to connect with others\, exchange ideas\, and find potential collabor
 ations. **We will be happy to welcome biologists\, mathematicians\, comput
 er scientists\, physicists\, chemists\, and basically anyone interested in
  cryo. More info in the registration link.**The program includes a short t
 alk followed by a Mini Poster session to share fresh ideas—not finished 
 projects.This is a perfect opportunity to get early feedback from colleagu
 es. Consider signing up for the casual A4 poster\, it is a great ice break
 er that sparks fruitful discussions.
LOCATION:ErrorBar (Downtown)\, ISTA
ORGANIZER:Pavol.Harar@ista.ac.at
SUMMARY:Benoit Arragain: 3rd CryoCoffee 
URL:https://talks-calendar.ista.ac.at/events/5959
END:VEVENT
END:VCALENDAR
