BEGIN:VCALENDAR
VERSION:2.0
PRODID:icalendar-ruby
CALSCALE:GREGORIAN
METHOD:PUBLISH
BEGIN:VTIMEZONE
TZID:Europe/Vienna
BEGIN:DAYLIGHT
DTSTART:20250330T030000
TZOFFSETFROM:+0100
TZOFFSETTO:+0200
RRULE:FREQ=YEARLY;BYDAY=-1SU;BYMONTH=3
TZNAME:CEST
END:DAYLIGHT
BEGIN:STANDARD
DTSTART:20251026T020000
TZOFFSETFROM:+0200
TZOFFSETTO:+0100
RRULE:FREQ=YEARLY;BYDAY=-1SU;BYMONTH=10
TZNAME:CET
END:STANDARD
END:VTIMEZONE
BEGIN:VEVENT
DTSTAMP:20260424T102243Z
UID:1756899000@ist.ac.at
DTSTART:20250903T133000
DTEND:20250903T143000
DESCRIPTION:Speaker: Sadashige Ishida\nhosted by Julian Fischer\nAbstract: 
 The space of codimension-2 shapes\, such as curves in 3D and surfaces in 4
 D\, is an infinite-dimensional manifold. This thesis explores geometric st
 ructures and dynamics on this space\, with emphasis on their implications 
 for physics\, particularly hydrodynamics. Our investigation ranges from th
 eoretical studies of infinite-dimensional symplectic and prequantum geomet
 ry to numerical computation of the time evolution of shapes.
LOCATION:Central Bldg / O1 / Mondi 2a & 2b (I01.O1.008) and Zoom\, ISTA
ORGANIZER:
SUMMARY:Sadashige Ishida: Thesis Defense: Symplectic-prequantum structures 
 and dynamics on the codimension-2 shape space
URL:https://talks-calendar.ista.ac.at/events/5953
END:VEVENT
END:VCALENDAR
