BEGIN:VCALENDAR
VERSION:2.0
PRODID:icalendar-ruby
CALSCALE:GREGORIAN
METHOD:PUBLISH
BEGIN:VTIMEZONE
TZID:Europe/Vienna
BEGIN:DAYLIGHT
DTSTART:20250330T030000
TZOFFSETFROM:+0100
TZOFFSETTO:+0200
RRULE:FREQ=YEARLY;BYDAY=-1SU;BYMONTH=3
TZNAME:CEST
END:DAYLIGHT
BEGIN:STANDARD
DTSTART:20251026T020000
TZOFFSETFROM:+0200
TZOFFSETTO:+0100
RRULE:FREQ=YEARLY;BYDAY=-1SU;BYMONTH=10
TZNAME:CET
END:STANDARD
END:VTIMEZONE
BEGIN:VEVENT
DTSTAMP:20260424T102131Z
UID:1756976400@ist.ac.at
DTSTART:20250904T110000
DTEND:20250904T123000
DESCRIPTION:Speaker: Filippo Fratini\nhosted by XISTA & ISTA Career Develop
 ment Expert\nAbstract: This seminar\, organized by XISTA in collaboration 
 with the ISTA Career Development Expert\, will be led by Dr. Filippo Frati
 ni (biography below). Designed to raise awareness about both the potential
  and challenges of quantum technology\, the seminar aims to bridge the gap
  between industry and quantum research. Dr. Fratini will discuss how quant
 um scientists can build successful careers in banking and how quantum prot
 otypes can be developed to tackle finance-related challenges. He will also
  explore one of the most critical intersections between banking and quantu
 m technology: post-quantum cryptography.About the speaker: Dr. Filippo Fra
 tini has had a distinguished career in academia\, with expertise spanning 
 physics\, mathematics\, and economics\, before transitioning to the bankin
 g sector. He initially worked in risk divisions and has since dedicated hi
 mself to applying quantum technologies in finance. Currently\, he leads th
 e Quantum Team—known as the QuanTeam—at Erste Bank\, where he focuses 
 on quantum education\, computation\, safety\, and communication.
LOCATION:Graduate School Staircase \, ISTA
ORGANIZER:sh@xista.vc; valentina.riva@ista.ac.at
SUMMARY:Filippo Fratini: Quantum at Erste Group
URL:https://talks-calendar.ista.ac.at/events/5945
END:VEVENT
END:VCALENDAR
