BEGIN:VCALENDAR
VERSION:2.0
PRODID:icalendar-ruby
CALSCALE:GREGORIAN
METHOD:PUBLISH
BEGIN:VTIMEZONE
TZID:Europe/Vienna
BEGIN:DAYLIGHT
DTSTART:20250330T030000
TZOFFSETFROM:+0100
TZOFFSETTO:+0200
RRULE:FREQ=YEARLY;BYDAY=-1SU;BYMONTH=3
TZNAME:CEST
END:DAYLIGHT
BEGIN:STANDARD
DTSTART:20251026T020000
TZOFFSETFROM:+0200
TZOFFSETTO:+0100
RRULE:FREQ=YEARLY;BYDAY=-1SU;BYMONTH=10
TZNAME:CET
END:STANDARD
END:VTIMEZONE
BEGIN:VEVENT
DTSTAMP:20260425T105100Z
UID:1760020200@ist.ac.at
DTSTART:20251009T163000
DTEND:20251009T200000
DESCRIPTION:hosted by xista\nAbstract: Highlights:Discover how ISTA researc
 hers and the xista ecosystem are turning science into startupsGet a data
 -informed perspective on Austria’s innovation potential from Boston Co
 nsulting Group Hear from global ecosystem builders like the BioInnovation
  Institute Engage with Austrian leaders including State Secretary Elisabe
 th Zehetner\, FFG\, and the EIC.Connect with fellow innovators and future 
 collaborators right here on campus.
LOCATION:Moonstone Seminar Center\, ISTA\, ISTA
ORGANIZER:
SUMMARY:bigX 25
URL:https://talks-calendar.ista.ac.at/events/5943
END:VEVENT
END:VCALENDAR
