BEGIN:VCALENDAR
VERSION:2.0
PRODID:icalendar-ruby
CALSCALE:GREGORIAN
METHOD:PUBLISH
BEGIN:VTIMEZONE
TZID:Europe/Vienna
BEGIN:DAYLIGHT
DTSTART:20250330T030000
TZOFFSETFROM:+0100
TZOFFSETTO:+0200
RRULE:FREQ=YEARLY;BYDAY=-1SU;BYMONTH=3
TZNAME:CEST
END:DAYLIGHT
BEGIN:STANDARD
DTSTART:20251026T020000
TZOFFSETFROM:+0200
TZOFFSETTO:+0100
RRULE:FREQ=YEARLY;BYDAY=-1SU;BYMONTH=10
TZNAME:CET
END:STANDARD
END:VTIMEZONE
BEGIN:VEVENT
DTSTAMP:20260424T074518Z
UID:684ad66c5deec034698604@ist.ac.at
DTSTART:20251010T143000
DTEND:20251010T152000
DESCRIPTION:Speaker: Jean-Christophe Mourrat\nhosted by Laszlo Erdös\, Jan
  Maas\nAbstract: Spin glasses are models of statistical mechanics in which
  a large number of elementary units interact in a disordered manner. One o
 f the main results of the theory is the Parisi formula\, which describes t
 he limit of the free energy of these systems. The goal of my talk will be 
 to present this formula and some open problems that relate to it\, as well
  as partial progress.
LOCATION:Central Bldg / O1 / Mondi 2 (I01.O1.008)\, ISTA
ORGANIZER:boosthui@ist.ac.at
SUMMARY:Jean-Christophe Mourrat: Spin Glasses and the Parisi Formula
URL:https://talks-calendar.ista.ac.at/events/5937
END:VEVENT
END:VCALENDAR
