BEGIN:VCALENDAR
VERSION:2.0
PRODID:icalendar-ruby
CALSCALE:GREGORIAN
METHOD:PUBLISH
BEGIN:VTIMEZONE
TZID:Europe/Vienna
BEGIN:DAYLIGHT
DTSTART:20250330T030000
TZOFFSETFROM:+0100
TZOFFSETTO:+0200
RRULE:FREQ=YEARLY;BYDAY=-1SU;BYMONTH=3
TZNAME:CEST
END:DAYLIGHT
BEGIN:STANDARD
DTSTART:20251026T020000
TZOFFSETFROM:+0200
TZOFFSETTO:+0100
RRULE:FREQ=YEARLY;BYDAY=-1SU;BYMONTH=10
TZNAME:CET
END:STANDARD
END:VTIMEZONE
BEGIN:VEVENT
DTSTAMP:20260425T210130Z
UID:1756282920@ist.ac.at
DTSTART:20250827T102200
DTEND:20250829T102200
DESCRIPTION:
LOCATION:Moonstone Seminar Center\, ISTA
ORGANIZER:alexander.salzmann@ista.ac.at
SUMMARY:CECAM Workshop: Entropy of Soft Matter Systems
URL:https://talks-calendar.ista.ac.at/events/5925
END:VEVENT
END:VCALENDAR
