BEGIN:VCALENDAR
VERSION:2.0
PRODID:icalendar-ruby
CALSCALE:GREGORIAN
METHOD:PUBLISH
BEGIN:VTIMEZONE
TZID:Europe/Vienna
BEGIN:DAYLIGHT
DTSTART:20250330T030000
TZOFFSETFROM:+0100
TZOFFSETTO:+0200
RRULE:FREQ=YEARLY;BYDAY=-1SU;BYMONTH=3
TZNAME:CEST
END:DAYLIGHT
BEGIN:STANDARD
DTSTART:20251026T020000
TZOFFSETFROM:+0200
TZOFFSETTO:+0100
RRULE:FREQ=YEARLY;BYDAY=-1SU;BYMONTH=10
TZNAME:CET
END:STANDARD
END:VTIMEZONE
BEGIN:VEVENT
DTSTAMP:20260424T143439Z
UID:683da72738b2e791689168@ist.ac.at
DTSTART:20250611T150000
DTEND:20250611T160000
DESCRIPTION:Speaker: Guillaume Carlier\nhosted by Jan Maas\nAbstract: In th
 is talk\, based on a joint work with Quentin Mrigot and Alex Delalande\, I
  will discuss (sharp) quantitative stability of push-forwards by optimal t
 ransport maps. The main step of the proof relies on a new bound (of indepe
 ndent interest) that quantifies the size of the singular set of convex fun
 ctions.
LOCATION:Central Bldg / O1 / Mondi 1 (I01.O1.007)\, ISTA
ORGANIZER:boosthui@ist.ac.at
SUMMARY:Guillaume Carlier: Quantitative stability of push-forwards by optim
 al maps
URL:https://talks-calendar.ista.ac.at/events/5856
END:VEVENT
END:VCALENDAR
