BEGIN:VCALENDAR
VERSION:2.0
PRODID:icalendar-ruby
CALSCALE:GREGORIAN
METHOD:PUBLISH
BEGIN:VTIMEZONE
TZID:Europe/Vienna
BEGIN:DAYLIGHT
DTSTART:20250330T030000
TZOFFSETFROM:+0100
TZOFFSETTO:+0200
RRULE:FREQ=YEARLY;BYDAY=-1SU;BYMONTH=3
TZNAME:CEST
END:DAYLIGHT
BEGIN:STANDARD
DTSTART:20251026T020000
TZOFFSETFROM:+0200
TZOFFSETTO:+0100
RRULE:FREQ=YEARLY;BYDAY=-1SU;BYMONTH=10
TZNAME:CET
END:STANDARD
END:VTIMEZONE
BEGIN:VEVENT
DTSTAMP:20260424T102223Z
UID:1747908000@ist.ac.at
DTSTART:20250522T120000
DTEND:20250522T130000
DESCRIPTION:Speaker: Sarath Suresh\nhosted by Robert Seiringer\nAbstract: F
 lows of ordinary fluids such as water or air transition from laminar to tu
 rbulent motion as the velocity increases. This simple dependence of the fl
 ow state solely on inertia\, does not apply to more complex substances suc
 h as polymeric and biofluids which commonly have elastic as well as viscou
 s properties. Here various different instabilities and turbulent states ca
 n arise at low and even vanishing inertia\, while high inertia turbulence 
 counterintuitively is suppressed and its drag strongly reduced. We here sh
 ow in experiments of a viscoelastic model fluid that the phenomena observe
 d at low and high inertia have a common origin and that the same dynamical
  state  persists across four orders of magnitude in Reynolds number\, ran
 ging from very low inertia\, all the way to high inertia Maximum drag redu
 ction (MDR) asymptote. We also explore the transitions from Newtonian turb
 ulence to MDR\, and specific cases of flow at high polymer concentrations\
 , exploring the relationship between flow at these wide range of control p
 arameters.
LOCATION:Sunstone Bldg / Ground floor / Lab Meeting room (I23.EG.005) and Z
 oom\, ISTA
ORGANIZER:
SUMMARY:Sarath Suresh: Thesis Defense: Turbulence in Polymeric Flows: A Cha
 racterisation of Elasto-Inertial Turbulence and the Maximum Drag Reduction
  Asymptote 
URL:https://talks-calendar.ista.ac.at/events/5824
END:VEVENT
END:VCALENDAR
