BEGIN:VCALENDAR
VERSION:2.0
PRODID:icalendar-ruby
CALSCALE:GREGORIAN
METHOD:PUBLISH
BEGIN:VTIMEZONE
TZID:Europe/Vienna
BEGIN:DAYLIGHT
DTSTART:20250330T030000
TZOFFSETFROM:+0100
TZOFFSETTO:+0200
RRULE:FREQ=YEARLY;BYDAY=-1SU;BYMONTH=3
TZNAME:CEST
END:DAYLIGHT
BEGIN:STANDARD
DTSTART:20251026T020000
TZOFFSETFROM:+0200
TZOFFSETTO:+0100
RRULE:FREQ=YEARLY;BYDAY=-1SU;BYMONTH=10
TZNAME:CET
END:STANDARD
END:VTIMEZONE
BEGIN:VEVENT
DTSTAMP:20260424T143516Z
UID:1757314800@ist.ac.at
DTSTART:20250908T090000
DTEND:20250910T160000
DESCRIPTION:hosted by Simon Hippenmeyer\nAbstract: Join the event for inspi
 ring keynote speakers\, neuroscience sessions\, writing workshop\, interac
 tive poster presentations\, networking events\, and more. For the program 
 and to register\, visit our website (https://ana-meeting-2025.ista.ac.at/)
 .
LOCATION:Raiffeisen Lecture Hall & Moonstone Seminar Center\, ISTA
ORGANIZER:ana-meeting-2025@ista.ac.at
SUMMARY:ANA meeting 2025
URL:https://talks-calendar.ista.ac.at/events/5817
END:VEVENT
END:VCALENDAR
